BEGIN:VCALENDAR
VERSION:2.0
PRODID:-//wp-events-plugin.com//7.2.3.1//EN
TZID:Europe/Paris
X-WR-TIMEZONE:Europe/Paris
BEGIN:VEVENT
UID:127@cd2s.fr
DTSTART;TZID=Europe/Paris:20261106T140000
DTEND;TZID=Europe/Paris:20261106T160000
DTSTAMP:20260420T182416Z
URL:https://www.cd2s.fr/manifestations/visite-schneider-electric-intencity
 /
SUMMARY:Visite de Schneider Electric IntenCity
DESCRIPTION:Innovant\, connecté\, intuitif\, le nouveau bâtiment IntenCit
 y de Schneider Electric a été conçu en se fondant sur trois piliers : 
 l’humain\, le numérique et le développement durable.
ATTACH;FMTTYPE=image/jpeg:https://www.cd2s.fr/wp-content/uploads/2026/04/I
 ntencityBig.jpg
CATEGORIES:Visite d'entreprise
LOCATION:Schneider Electric Intencity\, 160 Avenue des Martyrs\, Grenoble\,
  38500\, France
X-APPLE-STRUCTURED-LOCATION;VALUE=URI;X-ADDRESS=160 Avenue des Martyrs\, Gr
 enoble\, 38500\, France;X-APPLE-RADIUS=100;X-TITLE=Schneider Electric Inte
 ncity:geo:0,0
END:VEVENT
BEGIN:VTIMEZONE
TZID:Europe/Paris
X-LIC-LOCATION:Europe/Paris
BEGIN:STANDARD
DTSTART:20261025T020000
TZOFFSETFROM:+0200
TZOFFSETTO:+0100
TZNAME:CET
END:STANDARD
END:VTIMEZONE
END:VCALENDAR