BEGIN:VCALENDAR
VERSION:2.0
PRODID:-//wp-events-plugin.com//7.2.3.1//EN
TZID:Europe/Paris
X-WR-TIMEZONE:Europe/Paris
BEGIN:VEVENT
UID:88@cd2s.fr
DTSTART;TZID=Europe/Paris:20241004T140000
DTEND;TZID=Europe/Paris:20241004T170000
DTSTAMP:20240619T074846Z
URL:https://www.cd2s.fr/manifestations/visite-centrale-nucleaire-du-bugey/
SUMMARY:Visite de la centrale nucléaire du Bugey
DESCRIPTION:La centrale nucléaire du Bugey possède 4 réacteurs à eau pr
 essurisée de 900 MW. En 2022\, elle a produit 16\,5 TWh d'électricité f
 aible en CO2\, ce qui couvre les besoins de 40 % de la région Auvergne-Rh
 ône-Alpes.
ATTACH;FMTTYPE=image/jpeg:https://www.cd2s.fr/wp-content/uploads/2024/02/C
 entrale-Bugey-2.jpg
CATEGORIES:Visite d'entreprise
LOCATION:Centrale nucléaire du Bugey\, Route départementale 20\, Saint Vu
 lbas\, 01150\, France
X-APPLE-STRUCTURED-LOCATION;VALUE=URI;X-ADDRESS=Route départementale 20\, 
 Saint Vulbas\, 01150\, France;X-APPLE-RADIUS=100;X-TITLE=Centrale nucléai
 re du Bugey:geo:0,0
END:VEVENT
BEGIN:VTIMEZONE
TZID:Europe/Paris
X-LIC-LOCATION:Europe/Paris
BEGIN:DAYLIGHT
DTSTART:20240331T030000
TZOFFSETFROM:+0100
TZOFFSETTO:+0200
TZNAME:CEST
END:DAYLIGHT
END:VTIMEZONE
END:VCALENDAR